Workbook
Name 가: #REF!
Name 가: #REF!
Name 가: #REF!
Name 국외여비단가: #REF!
Name 국외여비단가: #REF!
Name 국외여비단가: #REF!
Name 나: #REF!
Name 나: #REF!
Name 나: #REF!
Name 다: #REF!
Name 다: #REF!
Name 다: #REF!
Name 등급: #REF!
Name 등급: #REF!
Name 등급: #REF!
Name 라: #REF!
Name 라: #REF!
Name 라: #REF!
Name 숙박비: #REF!
Name 숙박비: #REF!
Name 숙박비: #REF!
Name 식비: #REF!
Name 식비: #REF!
Name 식비: #REF!
Name 일비: #REF!
Name 일비: #REF!
Name 일비: #REF!
Name 직급: #REF!
Name 직급: #REF!
Name 직급: #REF!

Sheet 목차
A1: 2026년도 논문저술활동지원 사업 청구서식 목차
A3: 서식 | B3: 서식명 | D3: 시트 번호
A4: 논문저술활동 | B4: 2026년도 논문 저술활동 지원 사업 안내문 | D4: 0
B5: 서식 1-1 | C5: 논문저술활동 지원 신청서 | D5: 1
B6: 서식 1-2 | C6: 논문 투고 학술지 평가 항목 | D6: 1
B7: 서식 2 | C7: (해당 시) 소명서 (SAFE 건전학술활동시스템 검토 결과에 대한 소명 필요시) | D7: 2
A8: [참고자료] | C8: SAFE 건전학술활동시스템 _ 의심 학술지 확인 방법 | D8: 3

Sheet 0. 사업안내문
A1: 2026년도 서울의대 논문저술활동 지원 사업 안내 | E1: ※ 본부 연구처 교수학술활동지원과 별도 사업(아래 비교표 참조)
E3: 사업명 | G3: 우수학술지 논문게재료 | H3: 논문저술활동지원
E4: 지원기관 | G4: 연구처 연구지원과 | H4: 의과대학
E5: 신청서 제출처 | G5: Srnd 시스템 신청 | H5: 이메일 제출 (medarticle@snu.ac.kr)
E6: 지원대상 | G6: 전임 및 기금교원 | H6: 전임 및 기금교원, 비전임교원
E7: 지원금액 | G7: 연간 1인당 700만원 | H7: 연간 1인당 300만원
E8: 지원대상 기간 | G8: 당해연도 2월~익년 1월 | H8: 당해연도 1월 ~ 12월
E9: 지원항목 | F9: 게재료 | G9: O | H9: O
G10: (Open Access 포함) | H10: 전임 및 기금교원은 연구처 지원금 (우수학술지 논문게재료) 소진 후 신청 가능
F11: 교정료 | G11: O | H11: O
G12: (외국어 교정료) | H12: (영어논문 교정료)
F13: 투고료 | G13: O | H13: O
F14: 기타 | G14: 번역료, 컨퍼런스 프로시딩 비용, 우수 국제학술대회 발표 비용 | H14: 일러스트레이션 제작비, 통계작업 부대경비, 논문 Cover Charge
E15: 비고 | G15: - 게재 예정 논문인 경우 신청 가능 | H15: - 투고만 하여도 신청가능 * 단, 논문게재료는 게재(예정)확인서 필수 및 당해연도 영수증만 신청 가능
G16: - 기준일 내 영수증만 신청 가능 | H16: - 당해연도 게재(승인)된 논문의 경우, 과거 영어논문 교정료 영수증도 신청 가능
G17: - 동일 논문에 대한 번역료또는 외국어 교정료의 경우, 지원횟수를 1회로 제한 | H17: - 동일 논문에 대하여 재교정 비용 신청 가능

Sheet 1. 논문저술활동지원신청서
A1: [서식1-1] | L1: [서식1-2]
A2: 2026년 서울의대 논문저술활동 지원신청서 | L2: 논문 투고 학술지 평가 항목
A4: 신청자 | C4: 소속 | G4: 직위 | H4: 성명 | I4: 전화번호 | L4: 연번 | M4: 점검사항 | Q4: O/X | R4: 주의 및 권장 사항
C5: 대학(원) | E5: 의과대학 | G5: 교수 | H5: 홍길동 | I5: 02-740-8000 | L5: 1 | M5: 이 학술지의 평판에 대해 잘 알고 있습니까? | R5: 부실 학술지의 경우 저명한 학술지와 매우 유사한 이름을 사용하여 연구자들을 혼란시키는 경우가 있음 다양한 학문 분야에 수많은 학술지를 편집하는 편집장이 있는 경우 부실 학술지의 가능성이 있음
C6: 학과(부) | E6: 의학과
A7: 담당자 | E7: 연락처 | H7: 이메일
A8: 게재학술지명 | C8: SURGICAL ENDOSCOPY | H8: ISSN | I8: 0930-2794 | L8: 2 | M8: 이 학술지는 귀하가 이용하는 논문 검색 서비스에서 색인이 가능합니까? | R8: SCIE, KCI, SCOPUS 등 논문 검색서비스에 등록되어 있는지 확인 필요 * OA 저널의 경우 DOAJ(Directory of Open Access Journal), OASPA(Open Access Scholary Publishers’ Association) 리스트에 포함되어 있는지 확인
C9: 투고일자 | D9: 45658 | F9: 승인일자 | G9: 45778 | H9: 출판일자
A10: 인용색인 | C10: SCI(E) | D10: SSCI | E10: A&HCI | F10: SCOPUS | G10: 참여구분
G11: 제1저자 | I11: 교신저자 | L11: 3 | M11: 이전에 이 학술지에서 발표된 논문을 읽어본 적이 있습니까? | R11: 해당 학술지에서 발표된 논문을 읽어본 적이 없다면 투고 전 동료·조언자와 상의할 필요가 있음
A13: 교정업체명 | G13: 재교정 여부 | L13: 4 | M13: 이 학술지는 귀하의 연구성과 발표에 적합한 학술지입니까? | R13: 부실 추정 학술지의 경우 특정 학문 분야가 아닌 다양한 학문 분야의 논문을 게재하는 경우가 있음
A14: 논문명
C15: * 영문교정당시 제목(해당시) | L15: 5 | M15: 출판사 연락처 등 관련 정보에 쉽게 접근할 수 있습니까? | R15: 부실 추정 학술지의 경우 운영진(편집부 등)의 정보가 불투명한 경우가 많음
C17: ※제목이 변경되었으나 같은 논문임을 확인합니다.
A18: 신 청 액 | L18: 6 | M18: 동료 평가와 그 절차를 명시하고 있습니까? | R18: 동료평가와 그 절차를 규정하지 않거나, 형식적인 동료심사와 절차를 보장하는 경우 부실 학술지의 가능성이 있음
A19: 구분 | C19: 외 화 | F19: 원 화 | I19: 환 율 (신청서 당일 환율)
A20: 논문게재료 | I20: 1200
A21: 영어논문 교정료 | L21: 7 | M21: 귀하의 논문 심사를 적절하게 진행할 것으로 판단됩니까? | R21: 게재를 보장(Guarantee)하거나 짧은 기간 내에 심사가 이루어진다고 선전한다면 부실 학술지의 확률이 높음
A22: 일러스트레이션 제작비
A23: 통계작업 부대경비 | L23: 8 | M23: 어떤 비용을 청구할 것인지(또는 비용이 면제되는지) 명시하고 있습니까? | R23: 부실 학술지의 경우 논문심사료, 게재료가 명시되지 않고 논문 투고 후 또는 저작권 이양 후 과다한 논문 게재료 또는 심사료를 요구하는 경우가 있음
A24: 논문 Cover Charge
A25: 논문 투고료 | L25: 9 | M25: 제출한 논문은 서울대가 추구하는 학문적 가치(수월성, 창의성, 사회적 영향력 등)에 부합하는 것으로 판단됩니까? | R25: 학교의 위상 향상을 위하여 학문 분야별 Q1이상의 학술지에 투고할 것을 권장합니다.
A26: 계 Total | C26: =SUM(C20:E25) -> 0 | F26: =SUM(F20:H25) -> 0
A27: ○ 논문게재료 타기관 지원내역 | L27: ※ 상기 체크리스트 답변 중 소명이 필요하다고 판단되는 경우 소명서 제출 가능 ※ 부실의심 학술지에 대한 판단은 각 대학 및 학부의 기준에 따름
A28: 순번 | B28: 지원기관명 | D28: 지원금액 | F28: ※ 타기관으로 부터 논문게재료 전액을 지원받은 경우, 중복 지원 불가함. ※ 타기관 지원금을 제외한 잔여 금액에 대해서만 신청 가능함.
A29: 1
A30: 2 | L30: 학술지에 논문 투고 이전에 위의 유의사항을 점검하였음을 확인합니다.
A31: 위와 같이 논문저술활동 경비를 지원하여 주시기 바랍니다. | I31: 제출여부Submit | L31: =A38 -> 46205
I32: Y | J32: N | L32: O
A33: 붙 임: Attachments | B33: 1. 청구서Invoice ※ 논문 제목이 표시되어야 함. | L33: X | M33: 서울대학교 의과대학 | O33: =$E$6 -> 의학과 | Q33: 직위: | R33: =$G$5 -> 교수 | S33: 성명: | T33: =$H$5 -> 홍길동 | U33: (서명 또는 인)
B34: 2. 영수증(카드 또는 외화송금영수증), 신청자 결제분.
B35: 3. 게재 논문 사본 (논문 전체 / Title page 포함, 게재 예정인 경우 Manuscript 전체)
B36: 4. 게재예정확인서 (해당 시, Acceptance Letter)
B37: ５. 논문 투고 학술지 평가 항목
A38: =TODAY() -> 46205
G39: 신청자: | H39: =IF($H$5="","",$H$5) -> 홍길동
A40: 은행명 Bank Name | B40: 신한 | D40: 입금계좌번호 Deposit Account No. | F40: 111-111-111111 | H40: 예금주 Depositor | I40: =H5 -> 홍길동

Sheet 2. 소명서 (투고전 확인필요 등)
A1: [서식 2]
A2: 소 명 서
A4: 신청자 | C4: 소속 | G4: 직위 | H4: 성명 | I4: 전화번호
C5: 대학(원) | E5: ='1. 논문저술활동지원신청서'!E5:F5 -> 의과대학 | G5: ='1. 논문저술활동지원신청서'!G5:G6 -> 교수 | H5: ='1. 논문저술활동지원신청서'!H5:H6 -> 홍길동 | I5: ='1. 논문저술활동지원신청서'!I5:J6 -> 02-740-8000
C6: 학과(부) | E6: ='1. 논문저술활동지원신청서'!E6:F6 -> 의학과
A7: 게재학술지명 | C7: ='1. 논문저술활동지원신청서'!C8:G8 -> SURGICAL ENDOSCOPY | H7: ISSN | I7: ='1. 논문저술활동지원신청서'!I8:J8 -> 0930-2794
C8: 투고일자 | D8: ='1. 논문저술활동지원신청서'!D9:E9 -> 45658 | F8: 승인일자 | G8: ='1. 논문저술활동지원신청서'!G9 -> 45778 | H8: 출판일자 | I8: ='1. 논문저술활동지원신청서'!I9:J9 -> 0
A9: 논문명 | C9: ='1. 논문저술활동지원신청서'!$C$14:$J$14 -> 0
A10: SAFE 건전학술활동시스템(https://safe.accesson.kr) 검토 결과
A11: “투고 전 확인 필요”로 체크된 부분에 대한 소명 | C11: 평가요인 | E11: "투고 전 확인 필요" 사유
A19: 기타 소명 (필요한 경우)
A21: ※ 필요시 별도 증빙서류 첨부 가능 ※ 소명서의 내용이 충분하지 않을 경우 지원되지 않을 수 있음 ※ SAFE 건전학술활동지원시스템(https://safe.accesson.kr)
A23: =TODAY() -> 46205
F24: 신청자: | G24: =H5 -> 홍길동 | I24: (서명 또는 인)

Sheet 3. SAFE 건전학술활동지원시스템(확인방법)
A1: SAFE 건전학술활동지원시스템_확인 방법(예시)
A2: ▢ SAFE 건전학술활동지원시스템 홈페이지(건전학술활동지원시스템 (koar.kr) 접속)
